BEGIN:VCALENDAR
VERSION:2.0
PRODID:-//ChamberMaster//Event Calendar 2.0//EN
METHOD:PUBLISH
X-PUBLISHED-TTL:P1H
REFRESH-INTERVAL:P1H
CALSCALE:GREGORIAN
BEGIN:VTIMEZONE
TZID:America/Los_Angeles
BEGIN:DAYLIGHT
RRULE:FREQ=YEARLY;BYMONTH=3;BYDAY=2SU
DTSTART:20070101T000000
TZOFFSETFROM:-0800
TZOFFSETTO:-0700
TZNAME:Pacific Daylight Time
END:DAYLIGHT
BEGIN:STANDARD
RRULE:FREQ=YEARLY;BYMONTH=11;BYDAY=1SU
DTSTART:20070101T000000
TZOFFSETFROM:-0700
TZOFFSETTO:-0800
TZNAME:Pacific Standard Time
END:STANDARD
END:VTIMEZONE
BEGIN:VEVENT
DTSTART;VALUE=DATE:20260501
DTEND;VALUE=DATE:20260502
TRANSP:TRANSPARENT
X-MICROSOFT-CDO-ALLDAYEVENT:TRUE
SUMMARY:NSA Member - Advertising That Actually Works: What You Need to Know
DESCRIPTION:Las Vegas Review Journal is giving a 40-minute presentation on how you can get better results from your advertising\, they want to show you more than you know is possible.Choose from 8:30a\, 10:30a\, or 1p
X-ALT-DESC;FMTTYPE=text/html:<!DOCTYPE html><html><head><title></title></head><body aria-disabled="false"><p>Las Vegas Review Journal is giving a 40-minute presentation on how you can get better results from your advertising\, they want to show you more than you know is possible.</p><p><span data-olk-copy-source="MessageBody" style="line-height: 1.8\; margin: 0in\; font-family: Aptos\, Aptos_EmbeddedFont\, Aptos_MSFontService\, Calibri\, Helvetica\, sans-serif\, serif\, EmojiFont\; font-size: 12pt\; color: rgb(0\, 0\, 0)\;">Choose from 8:30a\, 10:30a\, or 1p</span> </p></body></html>
LOCATION:
UID:e.777.1440384
SEQUENCE:3
DTSTAMP:20260421T073154Z
URL:https://members.nevadasubcontractors.com/eventcalendar/Details/nsa-member-advertising-that-actually-works-what-you-need-to-know-1705238?sourceTypeId=Hub
END:VEVENT
END:VCALENDAR
